BEGIN:VCALENDAR
VERSION:2.0
PRODID:-//wp-events-plugin.com//7.2.3.1//EN
TZID:Europe/Berlin
X-WR-TIMEZONE:Europe/Berlin
BEGIN:VEVENT
UID:28@bliesheim.info
DTSTART;TZID=Europe/Berlin;VALUE=DATE:20250614
DTEND;TZID=Europe/Berlin;VALUE=DATE:20250620
DTSTAMP:20250415T173148Z
URL:https://bliesheim.info/events/schuetzenfest-in-bliesheim/
SUMMARY:Schützenfest in Bliesheim
DESCRIPTION:[et_pb_section fb_built="1" _builder_version="4.16" global_colo
 rs_info="{}"][et_pb_row column_structure="1_2\,1_2" _builder_version="4.27
 .4" _module_preset="default" global_colors_info="{}"][et_pb_column type="1
 _2" _builder_version="4.27.4" _module_preset="default" global_colors_info=
 "{}"][et_pb_image src="https://bliesheim.info/wp-content/uploads/2024/12/s
 chuetzenfest_2025.png" title_text="Schützenfest 2025" align="center" _bui
 lder_version="4.27.4" _module_preset="default" global_colors_info="{}"][/e
 t_pb_image][et_pb_image src="https://bliesheim.info/wp-content/uploads/202
 4/12/75-jahre_jungschuetzen.png" title_text="75-Jahre Jungschützen" align
 ="center" _builder_version="4.27.4" _module_preset="default" global_colors
 _info="{}"][/et_pb_image][/et_pb_column][et_pb_column type="1_2" _builder_
 version="4.27.4" _module_preset="default" global_colors_info="{}"][et_pb_t
 ext _builder_version="4.27.4" _module_preset="default" global_colors_info=
 "{}"]Samstag\, 14. Juni\n14.00 Uhr   Eröffnungsmesse in der Kirche St. 
 Lambertus in Bliesheim danach Kranzniederlegung auf dem Friedhof\n16.00 Uh
 r   Abmarsch zum Abholen des Präsidenten\, des Protektors und der Majes
 täten\n19.00 Uhr   Königsball zu Ehren aller Würdenträger im Schütz
 enhaus mit „popcorn - Die Partyband“\nSonntag\, 15. Juni\n13.00 Uhr 
   Empfang der Ehrengäste und befreundeter Bruderschaften\n14.30 Uhr   
 Großer Festzug durch Bliesheim mit Vorbeimarsch auf dem Festgelände\n\na
 nschließend Platzkonzert von den „Musikfreunde Roisdorf“\nKaffee und 
 Kuchenbar im Schützenhaus\nFronhofpokalschießen für unsere inaktiven Mi
 tglieder\nHistorisches Schießspiel für unsere befreundeten Bruderschafte
 n am Hochstand\nAusschießen des „Original Bliesheimer Lattenkönigs“\
 nDämmerschoppen\n\nMontag\, 16. Juni\n10.00 Uhr   Feldgottesdienst auf 
 dem Schützenplatz\n11.00 Uhr   Frühstück und Frühschoppen im Schütz
 enhaus\n16.00 Uhr   Historisches Königsvogelschießen auf dem Hochstand
 \n20.00 Uhr   Festzug mit alten und neuen Majestäten durchs Unterdorf\n
 \nanschließend Krönung und Königsball im Schützenhaus mit „popcorn -
  Die Partyband“\n\nDonnerstag\, 19. Juni (Fronleichnam)\n08.45 Uhr   F
 ronleichnamsprozession durch den Ort\nmit Abschlusssegen vor der Kirche St
 . Lambertus\n\nanschließend Frühschoppen im Schützenhaus\n\n15.00 Uhr 
   Bürgervogel- und Preisschießen auf dem Hochstand\n\nAusschießen des 
 Dr. Peter Klünter Pokals\, Prinz der Prinzen und Königs der Könige\n\n&
 nbsp\;\nAn allen Tagen freier Eintritt.\nAn allen Tagen gibt es gekühlte 
 Pittermännchen.\nHomepage: www.sebastianus-bliesheim.de[/et_pb_text][/et_
 pb_column][/et_pb_row][/et_pb_section]
CATEGORIES:Veranstaltungen in Bliesheim
LOCATION:Schützenhaus\, Merowingerstraße 54\, Erftstadt-Bliesheim\, 50374
 \, Deutschland
X-APPLE-STRUCTURED-LOCATION;VALUE=URI;X-ADDRESS=Merowingerstraße 54\, Erft
 stadt-Bliesheim\, 50374\, Deutschland;X-APPLE-RADIUS=100;X-TITLE=Schützen
 haus:geo:0,0
END:VEVENT
BEGIN:VTIMEZONE
TZID:Europe/Berlin
X-LIC-LOCATION:Europe/Berlin
BEGIN:DAYLIGHT
DTSTART:20250330T030000
TZOFFSETFROM:+0100
TZOFFSETTO:+0200
TZNAME:CEST
END:DAYLIGHT
END:VTIMEZONE
END:VCALENDAR