BEGIN:VCALENDAR
VERSION:2.0
PRODID:-//wp-events-plugin.com//7.2.3.1//EN
TZID:Europe/Berlin
X-WR-TIMEZONE:Europe/Berlin
BEGIN:VEVENT
UID:94@bliesheim.info
DTSTART;TZID=Europe/Berlin:20261129T120000
DTEND;TZID=Europe/Berlin:20261129T200000
DTSTAMP:20260307T165315Z
URL:https://bliesheim.info/events/nikolausmarkt-2/
SUMMARY:Nikolausmarkt
DESCRIPTION:Auch dieses Jahr veranstaltet die Dorfgemeinschaft Bliesheim e.
 V. einen Nikolausmarkt.\n\nDer Termin ist der 29.11.2026 (1.Advent) Ort wi
 rd wie in den letzten Jahren die Frankenstrasse ab dem Dorfgemeinschafthau
 s "Em Dörp" sein.\n\nDer Nikolaus hat auch seinen Besuch schon angekündi
 gt.
CATEGORIES:Veranstaltungen in Bliesheim
LOCATION:Frankenstraße\, Frankenstraße\, Erftstadt-Bliesheim\, Deutschlan
 d
X-APPLE-STRUCTURED-LOCATION;VALUE=URI;X-ADDRESS=Frankenstraße\, Erftstadt-
 Bliesheim\, Deutschland;X-APPLE-RADIUS=100;X-TITLE=Frankenstraße:geo:0,0
END:VEVENT
BEGIN:VTIMEZONE
TZID:Europe/Berlin
X-LIC-LOCATION:Europe/Berlin
BEGIN:STANDARD
DTSTART:20261025T020000
TZOFFSETFROM:+0200
TZOFFSETTO:+0100
TZNAME:CET
END:STANDARD
END:VTIMEZONE
END:VCALENDAR