BEGIN:VCALENDAR
VERSION:2.0
PRODID:-//wp-events-plugin.com//7.2.3.1//EN
TZID:Europe/Berlin
X-WR-TIMEZONE:Europe/Berlin
BEGIN:VEVENT
UID:15@bliesheim.info
DTSTART;TZID=Europe/Berlin:20250202T094500
DTEND;TZID=Europe/Berlin:20250202T094500
DTSTAMP:20250129T165657Z
URL:https://bliesheim.info/events/koelsche-mess-der-1-kg-bliesheim-1954-e-
 v/
SUMMARY:Kölsche Mess der 1. KG Bliesheim 1954 e.V.
DESCRIPTION:
CATEGORIES:Veranstaltungen in Bliesheim
LOCATION:Pfarrkirche St.Lambertus\, Lambertusstraße 44\, Erftstadt-Blieshe
 im\, 50374\, Deutschland
X-APPLE-STRUCTURED-LOCATION;VALUE=URI;X-ADDRESS=Lambertusstraße 44\, Erfts
 tadt-Bliesheim\, 50374\, Deutschland;X-APPLE-RADIUS=100;X-TITLE=Pfarrkirch
 e St.Lambertus:geo:0,0
END:VEVENT
BEGIN:VTIMEZONE
TZID:Europe/Berlin
X-LIC-LOCATION:Europe/Berlin
BEGIN:STANDARD
DTSTART:20241027T020000
TZOFFSETFROM:+0200
TZOFFSETTO:+0100
TZNAME:CET
END:STANDARD
END:VTIMEZONE
END:VCALENDAR