BEGIN:VCALENDAR
VERSION:2.0
PRODID:-//wp-events-plugin.com//7.2.3.1//EN
TZID:Europe/Berlin
X-WR-TIMEZONE:Europe/Berlin
BEGIN:VEVENT
UID:87@bliesheim.info
DTSTART;TZID=Europe/Berlin:20260521T193000
DTEND;TZID=Europe/Berlin:20260521T230000
DTSTAMP:20260306T113801Z
URL:https://bliesheim.info/events/jahreshauptversammlung-der-dorfgemeinsch
 aft-bliesheim-2/
SUMMARY:Jahreshauptversammlung der Dorfgemeinschaft Bliesheim
DESCRIPTION:Am 21. Mai 2026 laden wir alle Mitglieder der Dorfgemeinschaft 
 Bliesheim zur Jahreshauptversammlung ein.\n\nDiese Versammlung findet um 1
 9:30 Uhr im Dorfgemeinschaftshaus "Em Dörp" statt.\nEin Tagespunkt wird d
 ie Neuwahl des gesamten Vorstandes der DG - Bliesheim sein.\n\nMitmachen m
 it dem Vorstand der Dorfgemeinschaft\nDie Dorfgemeinschaft lebt vom Engage
 ment ihrer Mitglieder. Wer Interesse daran hat\, sich aktiv an den vielfä
 ltigen Aufgaben und Projekten unserer Dorfgemeinschaft zu beteiligen\, ist
  herzlich eingeladen\, sich zu melden. Gemeinsam können wir das Dorfleben
  gestalten und unterstützen.\nInteressierte Personen können sich unter f
 olgender Adresse melden:\nkontakt@bliesheim.info \nmelden.\n\nVielen Dank
  !
CATEGORIES:Veranstaltungen in Bliesheim
LOCATION:Dorfgemeinschaftshaus Em Dörp\, Frankenstraße 63\, Erftstadt-Bli
 esheim\, 50374\, Deutschland
X-APPLE-STRUCTURED-LOCATION;VALUE=URI;X-ADDRESS=Frankenstraße 63\, Erftsta
 dt-Bliesheim\, 50374\, Deutschland;X-APPLE-RADIUS=100;X-TITLE=Dorfgemeinsc
 haftshaus Em Dörp:geo:0,0
END:VEVENT
BEGIN:VTIMEZONE
TZID:Europe/Berlin
X-LIC-LOCATION:Europe/Berlin
BEGIN:DAYLIGHT
DTSTART:20260329T030000
TZOFFSETFROM:+0100
TZOFFSETTO:+0200
TZNAME:CEST
END:DAYLIGHT
END:VTIMEZONE
END:VCALENDAR